BEGIN:VCALENDAR
VERSION:2.0
PRODID:-//St. Liudger in Münster - ECPv5.16.4//NONSGML v1.0//EN
CALSCALE:GREGORIAN
METHOD:PUBLISH
X-WR-CALNAME:St. Liudger in Münster
X-ORIGINAL-URL:https://www.kirche-mswest.de
X-WR-CALDESC:Veranstaltungen für St. Liudger in Münster
BEGIN:VTIMEZONE
TZID:Europe/Berlin
BEGIN:DAYLIGHT
TZOFFSETFROM:+0100
TZOFFSETTO:+0200
TZNAME:CEST
DTSTART:20230326T010000
END:DAYLIGHT
BEGIN:STANDARD
TZOFFSETFROM:+0200
TZOFFSETTO:+0100
TZNAME:CET
DTSTART:20231029T010000
END:STANDARD
END:VTIMEZONE
BEGIN:VEVENT
DTSTART;TZID=Europe/Berlin:20230922T180000
DTEND;TZID=Europe/Berlin:20230922T193000
DTSTAMP:20260426T041520
CREATED:20230904T200904Z
LAST-MODIFIED:20230908T085147Z
UID:44374-1695405600-1695411000@www.kirche-mswest.de
SUMMARY:Welcome Weekend #Licht
DESCRIPTION:Das neue Gottesdienst-Format „Welcome Weekend“ #Licht kommt aus St. Anna nach St. Pantaleon. Der nächste Termin ist am 22. September um 18 Uhr. Besondere geistliche Impulse\, ansprechende Musik und das Evangelium mal anders. Im Anschluss gibt es ein gemütliches Beisammensein bei leckerer Verkostung. \nAb 17.15 Uhr sind alle zum Einsingen und mitsingen eingeladen. \nEingeladen sind alle\, die mal andere feiern möchten.
URL:https://www.kirche-mswest.de/termin/welcome-weekend-licht/
LOCATION:St.-Pantaleon-Kirche
CATEGORIES:Pfarrei
END:VEVENT
END:VCALENDAR