BEGIN:VCALENDAR
VERSION:2.0
PRODID:-//St. Liudger in Münster - ECPv5.16.4//NONSGML v1.0//EN
CALSCALE:GREGORIAN
METHOD:PUBLISH
X-WR-CALNAME:St. Liudger in Münster
X-ORIGINAL-URL:https://www.kirche-mswest.de
X-WR-CALDESC:Veranstaltungen für St. Liudger in Münster
BEGIN:VTIMEZONE
TZID:Europe/Berlin
BEGIN:DAYLIGHT
TZOFFSETFROM:+0100
TZOFFSETTO:+0200
TZNAME:CEST
DTSTART:20230326T010000
END:DAYLIGHT
BEGIN:STANDARD
TZOFFSETFROM:+0200
TZOFFSETTO:+0100
TZNAME:CET
DTSTART:20231029T010000
END:STANDARD
END:VTIMEZONE
BEGIN:VEVENT
DTSTART;TZID=Europe/Berlin:20230602T180000
DTEND;TZID=Europe/Berlin:20230602T200000
DTSTAMP:20260419T221812
CREATED:20230503T154643Z
LAST-MODIFIED:20230515T153840Z
UID:43219-1685728800-1685736000@www.kirche-mswest.de
SUMMARY:Welcome Weekend #Abenteuer
DESCRIPTION:Welcome Weekend…der etwas andere Einstieg ins Wochenende! \n#Abenteuer – Was ist das Abenteuer deines Lebens?  \nAm 2. Juni um 18.00 Uhr in der Kirche St. Anna! \nMusikalische und geistliche Impulse. Andere Stimmung und anderes Licht. \nDas neue Format bietet Elemente wie Gebet\, Lieder\, Bibeltext – aber anders – mal erzählt\, mal gespielt\, als Aktion zum Nachsinnen\, Nachdenken und Mitmachen. \nIm Anschluss gibt es ein gemütliches Beisammensein mit leckerem Essen. \nAb 17.15 Uhr kann man zum Singen schon Vorbeikommen!
URL:https://www.kirche-mswest.de/termin/welcome-weekend-abenteuer/
LOCATION:St.-Anna-Kirche
CATEGORIES:Gottesdienste St. Anna,St. Anna
END:VEVENT
END:VCALENDAR