BEGIN:VCALENDAR
VERSION:2.0
PRODID:-//St. Liudger in Münster - ECPv5.16.4//NONSGML v1.0//EN
CALSCALE:GREGORIAN
METHOD:PUBLISH
X-WR-CALNAME:St. Liudger in Münster
X-ORIGINAL-URL:https://www.kirche-mswest.de
X-WR-CALDESC:Veranstaltungen für St. Liudger in Münster
BEGIN:VTIMEZONE
TZID:Europe/Berlin
BEGIN:DAYLIGHT
TZOFFSETFROM:+0100
TZOFFSETTO:+0200
TZNAME:CEST
DTSTART:20230326T010000
END:DAYLIGHT
BEGIN:STANDARD
TZOFFSETFROM:+0200
TZOFFSETTO:+0100
TZNAME:CET
DTSTART:20231029T010000
END:STANDARD
END:VTIMEZONE
BEGIN:VEVENT
DTSTART;TZID=Europe/Berlin:20230603T100000
DTEND;TZID=Europe/Berlin:20230603T180000
DTSTAMP:20260419T203015
CREATED:20230519T220308Z
LAST-MODIFIED:20230519T220308Z
UID:43431-1685786400-1685815200@www.kirche-mswest.de
SUMMARY:Wanderung rund um Bad Iburg
DESCRIPTION:Die Frauengemeinschaft St. Ludgerus Albachten lädt ein zu einer Wanderung rund um Bad Iburg mit Renate Thiedig am Samstag\, 03. Juni. Treffpunkt ist der Kirchplatz um 10.00 Uhr. Dort werden Fahrgemeinschaften gebildet. Von Bad Iburg geht es mit einigen kurzen\, aber knackigen Anstiegen in den Teutoburger Wald vorbei am Hermannsturm mit einer schönen Aussicht. Die reine Gehzeit beträgt 4\,5 bis 5 Stunden. Unterwegs gibt keine Einkehrmöglichkeit\, daher ist Rucksackverpflegung angesagt. Am Ende der Wanderung kann man einkehren\, wenn es gewünscht wird. Eine Anmeldung ist nicht erforderlich.
URL:https://www.kirche-mswest.de/termin/wanderung-rund-um-bad-iburg/
LOCATION:Bad Iburg\, Bad Iburg
CATEGORIES:kfd St. Ludgerus,St. Ludgerus
END:VEVENT
END:VCALENDAR