BEGIN:VCALENDAR
VERSION:2.0
PRODID:-//St. Liudger in Münster - ECPv5.16.4//NONSGML v1.0//EN
CALSCALE:GREGORIAN
METHOD:PUBLISH
X-WR-CALNAME:St. Liudger in Münster
X-ORIGINAL-URL:https://www.kirche-mswest.de
X-WR-CALDESC:Veranstaltungen für St. Liudger in Münster
BEGIN:VTIMEZONE
TZID:Europe/Berlin
BEGIN:DAYLIGHT
TZOFFSETFROM:+0100
TZOFFSETTO:+0200
TZNAME:CEST
DTSTART:20230326T010000
END:DAYLIGHT
BEGIN:STANDARD
TZOFFSETFROM:+0200
TZOFFSETTO:+0100
TZNAME:CET
DTSTART:20231029T010000
END:STANDARD
END:VTIMEZONE
BEGIN:VEVENT
DTSTART;TZID=Europe/Berlin:20230902T090000
DTEND;TZID=Europe/Berlin:20230902T183000
DTSTAMP:20260421T114328
CREATED:20230822T114924Z
LAST-MODIFIED:20230822T114924Z
UID:44178-1693645200-1693679400@www.kirche-mswest.de
SUMMARY:Wanderung in der Hohen Mark
DESCRIPTION:Die Frauengemeinschaft St. Ludgerus Albachten lädt ein zu einer Wanderung über den „Hohe Mark Steig“ am Samstag\, 02. September 2023. Da es sich um eine Streckenwanderung von Lembeck nach Haltern handelt\, ist die Anfahrt mit dem Zug geplant. Treffpunkt ist um 09:00 Uhr (Abfahrt des Zuges 09:10 Uhr) der Bahnhof Roxel. Im Zug werden gegebenenfalls ein oder mehrere Gruppentickets gelöst. Die Strecke von ca 20 km verläuft überwiegend auf unbefestigten Wegen durch den Wald. Da erst nach 3/4 der Strecke eine Einkehr möglich ist\, ist eine Rucksackverpflegung angesagt. Die Rückkehr in Albachten ist für ca. 18:15 Uhr geplant. Eine Anmeldung ist nicht erforderlich.
URL:https://www.kirche-mswest.de/termin/wanderung-in-der-hohen-mark/
LOCATION:Bahnhof Roxel
CATEGORIES:kfd St. Ludgerus,St. Ludgerus
END:VEVENT
END:VCALENDAR