BEGIN:VCALENDAR
VERSION:2.0
PRODID:-//St. Liudger in Münster - ECPv5.16.4//NONSGML v1.0//EN
CALSCALE:GREGORIAN
METHOD:PUBLISH
X-WR-CALNAME:St. Liudger in Münster
X-ORIGINAL-URL:https://www.kirche-mswest.de
X-WR-CALDESC:Veranstaltungen für St. Liudger in Münster
BEGIN:VTIMEZONE
TZID:Europe/Berlin
BEGIN:DAYLIGHT
TZOFFSETFROM:+0100
TZOFFSETTO:+0200
TZNAME:CEST
DTSTART:20230326T010000
END:DAYLIGHT
BEGIN:STANDARD
TZOFFSETFROM:+0200
TZOFFSETTO:+0100
TZNAME:CET
DTSTART:20231029T010000
END:STANDARD
END:VTIMEZONE
BEGIN:VEVENT
DTSTART;TZID=Europe/Berlin:20230916T170000
DTEND;TZID=Europe/Berlin:20230916T190000
DTSTAMP:20260425T205300
CREATED:20230908T115518Z
LAST-MODIFIED:20230908T115518Z
UID:44434-1694883600-1694890800@www.kirche-mswest.de
SUMMARY:Verabschiedung von Kaplan Jonas Hagedorn
DESCRIPTION:Am 16. September verabschieden wir Kaplan Jonas Hagedorn in St. Stephanus. \nNach dem Gottesdienst um 17.00 Uhr wird es einen Umtrunk in der Kirche geben und die Möglichkeit\, sich von ihm persönlich zu verabschieden.
URL:https://www.kirche-mswest.de/termin/verabschiedung-von-kaplan-jonas-hagedorn/
LOCATION:St.-Stephanus-Kirche
CATEGORIES:Pfarrei
END:VEVENT
END:VCALENDAR