BEGIN:VCALENDAR
VERSION:2.0
PRODID:-//St. Liudger in Münster - ECPv5.16.4//NONSGML v1.0//EN
CALSCALE:GREGORIAN
METHOD:PUBLISH
X-WR-CALNAME:St. Liudger in Münster
X-ORIGINAL-URL:https://www.kirche-mswest.de
X-WR-CALDESC:Veranstaltungen für St. Liudger in Münster
BEGIN:VTIMEZONE
TZID:Europe/Berlin
BEGIN:DAYLIGHT
TZOFFSETFROM:+0100
TZOFFSETTO:+0200
TZNAME:CEST
DTSTART:20230326T010000
END:DAYLIGHT
BEGIN:STANDARD
TZOFFSETFROM:+0200
TZOFFSETTO:+0100
TZNAME:CET
DTSTART:20231029T010000
END:STANDARD
END:VTIMEZONE
BEGIN:VEVENT
DTSTART;TZID=Europe/Berlin:20230916T183000
DTEND;TZID=Europe/Berlin:20230916T193000
DTSTAMP:20260425T232434
CREATED:20230816T071416Z
LAST-MODIFIED:20230904T195822Z
UID:44046-1694889000-1694892600@www.kirche-mswest.de
SUMMARY:Themengottesdienst in St. Pantaleon - Schöpfungslust anstatt Umweltfrust
DESCRIPTION:Schöpfungslust anstatt Umweltfrust\nWir laden alle ganz herzlich zu unserem nächsten Themengottesdienst am Sa\, 16.09.2023\, um 18:30 Uhr in die St. Pantaleon Kirche in Roxel ein. Das  Thema lautet: „Schöpfungslust- nicht Umweltfrust“. \nIst es nicht jedem von uns wichtig\, auf die kleinen Dinge im Alltag zu achten\, damit uns immer wieder sichtbar wird\, was wir schützen möchten und warum? Welchen Beitrag können wir zur Bewahrung unserer Schöpfung leisten? Wir möchten in diesem Gottesdienst ein paar Impulse und Anregungen (vielleicht auch zum Nachdenken) geben.
URL:https://www.kirche-mswest.de/termin/themengottesdienst-in-st-pantaleon-3/
LOCATION:St.-Pantaleon-Kirche
CATEGORIES:Gottesdienste St. Pantaleon,St. Pantaleon
END:VEVENT
END:VCALENDAR