BEGIN:VCALENDAR
VERSION:2.0
PRODID:-//St. Liudger in Münster - ECPv5.16.4//NONSGML v1.0//EN
CALSCALE:GREGORIAN
METHOD:PUBLISH
X-WR-CALNAME:St. Liudger in Münster
X-ORIGINAL-URL:https://www.kirche-mswest.de
X-WR-CALDESC:Veranstaltungen für St. Liudger in Münster
BEGIN:VTIMEZONE
TZID:Europe/Berlin
BEGIN:DAYLIGHT
TZOFFSETFROM:+0100
TZOFFSETTO:+0200
TZNAME:CEST
DTSTART:20230326T010000
END:DAYLIGHT
BEGIN:STANDARD
TZOFFSETFROM:+0200
TZOFFSETTO:+0100
TZNAME:CET
DTSTART:20231029T010000
END:STANDARD
END:VTIMEZONE
BEGIN:VEVENT
DTSTART;TZID=Europe/Berlin:20230608T100000
DTEND;TZID=Europe/Berlin:20230608T130000
DTSTAMP:20260419T140048
CREATED:20230519T220811Z
LAST-MODIFIED:20230519T220811Z
UID:43434-1686218400-1686229200@www.kirche-mswest.de
SUMMARY:St. Anna und St. Stephanus feiern gemeinsam Fronleichnam
DESCRIPTION:Fronleichnam feiern die Gemeinden St. Anna und St. Stephanus am 8. Juni zusammen in St. Anna. Beginn ist um 10.00 Uhr in der St.-Anna-Kirche. Dort wird die Hl. Messe gefeiert. \nIn einer Prozession gehen wir über Am Hof Schultmann\, Westenkamp\, am Spielplatz vorbei von hinten zum Meckmannshof\, dort ist die 1. Station (vorbereitet vom Team Haus St. Benedikt). Danach geht der Weg über den Meckmannweg\, Westenkamp\, Flaßkamp\, Holtkamp und Stratmannweg\, über Am Hof Schultmann zum Spielplatz an der Brockmannstraße\, dort ist die 2. Station (vorbereitet vom Familienmesskreis). Der Rückweg zur Kirche geht dann über die Brockmannstraße\, den August-Veltmann-Weg und\nden Dingbängerweg. \nDer Abschuss ist dann vor der Kirche\, wo im Anschluss alle zu einem gemütlichen Beisammensein mit Kaffee\, Kuchen\, Würstchen und Getränken eingeladen sind.
URL:https://www.kirche-mswest.de/termin/st-anna-und-st-stephanus-feiern-gemeinsam-fronleichnam/
LOCATION:St.-Anna-Kirche
CATEGORIES:Gottesdienste,Pfarrei
END:VEVENT
END:VCALENDAR