BEGIN:VCALENDAR
VERSION:2.0
PRODID:-//St. Liudger in Münster - ECPv5.16.4//NONSGML v1.0//EN
CALSCALE:GREGORIAN
METHOD:PUBLISH
X-WR-CALNAME:St. Liudger in Münster
X-ORIGINAL-URL:https://www.kirche-mswest.de
X-WR-CALDESC:Veranstaltungen für St. Liudger in Münster
BEGIN:VTIMEZONE
TZID:Europe/Berlin
BEGIN:DAYLIGHT
TZOFFSETFROM:+0100
TZOFFSETTO:+0200
TZNAME:CEST
DTSTART:20260329T010000
END:DAYLIGHT
BEGIN:STANDARD
TZOFFSETFROM:+0200
TZOFFSETTO:+0100
TZNAME:CET
DTSTART:20261025T010000
END:STANDARD
END:VTIMEZONE
BEGIN:VEVENT
DTSTART;TZID=Europe/Berlin:20260428T200000
DTEND;TZID=Europe/Berlin:20260428T210000
DTSTAMP:20260420T043835
CREATED:20260419T172439Z
LAST-MODIFIED:20260419T172439Z
UID:54159-1777406400-1777410000@www.kirche-mswest.de
SUMMARY:Spiritueller Lese- und Gesprächskreis
DESCRIPTION:Zum Thema „Farben“ findet der nächste Spiritueller Lese- und Gesprächskreis am Dienstag\, 28. April\, um 20.00 Uhr\, in der Alten Bücherei statt. Bei Interesse bitte melden bei Dagmar Fuchs\, Telefon 9743021.
URL:https://www.kirche-mswest.de/termin/spiritueller-lese-und-gespraechskreis-2/
LOCATION:Alte Bücherei\, Stephanuskirchplatz\, 48151 Münster
CATEGORIES:St. Stephanus
END:VEVENT
END:VCALENDAR