BEGIN:VCALENDAR
VERSION:2.0
PRODID:-//St. Liudger in Münster - ECPv5.16.4//NONSGML v1.0//EN
CALSCALE:GREGORIAN
METHOD:PUBLISH
X-WR-CALNAME:St. Liudger in Münster
X-ORIGINAL-URL:https://www.kirche-mswest.de
X-WR-CALDESC:Veranstaltungen für St. Liudger in Münster
BEGIN:VTIMEZONE
TZID:Europe/Berlin
BEGIN:DAYLIGHT
TZOFFSETFROM:+0100
TZOFFSETTO:+0200
TZNAME:CEST
DTSTART:20230326T010000
END:DAYLIGHT
BEGIN:STANDARD
TZOFFSETFROM:+0200
TZOFFSETTO:+0100
TZNAME:CET
DTSTART:20231029T010000
END:STANDARD
END:VTIMEZONE
BEGIN:VEVENT
DTSTART;TZID=Europe/Berlin:20230909T103000
DTEND;TZID=Europe/Berlin:20230909T173000
DTSTAMP:20260425T170156
CREATED:20230817T132555Z
LAST-MODIFIED:20230817T132555Z
UID:44102-1694255400-1694280600@www.kirche-mswest.de
SUMMARY:September-Aktion der KjG:  Ketteler Hof
DESCRIPTION:Hallo zusammen\, wir möchten alle Kinder herzlich einladen\, einen actionreichen Tag mit uns im Ketteler Hof zu verbringen. Stattfinden soll der ganze Spaß am Samstag\, den 09. September 2023.  Hier kommen einmal alle wichtigen Infos im Überblick:\n– Wir werden gemeinsam mit dem Bus hin und zurück fahren und treffen uns dafür um 10:30 Uhr am Concordenplatz in Albachten.\n– Um den Eintritt zu finanzieren gibt es eine Teilnahmegebühr von 10 Euro. Das Geld sollte zur Abfahrt mitgebracht werden (und gerne als 10€ Schein)\n– Nehmt bitte euer eigenes Essen und Trinken mit. Im Ketteler Hof kann man übrigens noch etwas kaufen\, falls Ihr das möchtet.\n– Gegen etwa 17:30 Uhr werden wir wieder in Albachten ankommen.\n\nUm das Anmeldeverfahren zu vereinfachen haben wir eine Umfrage bei Google Docs erstellt. Wenn ihr eure Kinder anmelden\, wollt nutzt einfach den Link. Solltet ihr von uns nichts Gegenteiliges hören seid ihr dabei. Wir melden uns\, falls wir aufgrund begrenzter Plätze „ausgebucht“ sind. Hier also der Link zu Anmeldung: https://forms.gle/HBs7qiuWPxnb4fNK7
URL:https://www.kirche-mswest.de/termin/september-aktion-der-kjg-ketteler-hof/
LOCATION:Parkplatz Concordia
CATEGORIES:KjG St. Ludgerus,St. Ludgerus
END:VEVENT
END:VCALENDAR