BEGIN:VCALENDAR
VERSION:2.0
PRODID:-//St. Liudger in Münster - ECPv5.16.4//NONSGML v1.0//EN
CALSCALE:GREGORIAN
METHOD:PUBLISH
X-WR-CALNAME:St. Liudger in Münster
X-ORIGINAL-URL:https://www.kirche-mswest.de
X-WR-CALDESC:Veranstaltungen für St. Liudger in Münster
BEGIN:VTIMEZONE
TZID:Europe/Berlin
BEGIN:DAYLIGHT
TZOFFSETFROM:+0100
TZOFFSETTO:+0200
TZNAME:CEST
DTSTART:20230326T010000
END:DAYLIGHT
BEGIN:STANDARD
TZOFFSETFROM:+0200
TZOFFSETTO:+0100
TZNAME:CET
DTSTART:20231029T010000
END:STANDARD
END:VTIMEZONE
BEGIN:VEVENT
DTSTART;TZID=Europe/Berlin:20230409T093000
DTEND;TZID=Europe/Berlin:20230409T120000
DTSTAMP:20260423T203828
CREATED:20230401T090718Z
LAST-MODIFIED:20230401T090718Z
UID:42987-1681032600-1681041600@www.kirche-mswest.de
SUMMARY:Ostersonntag 2023
DESCRIPTION:In unseren vier Gemeinden feiern wir am Ostersonntag die Auferstehung des Herrn mit folgenden Osterhochämtern: \n\nSt.-Pantaleon-Kirche (Roxel) um 11.00 Uhr\nSt.-Ludgerus-Kirche (Albachten) um 9.30 Uhr\nSt.-Anna-Kirche (Mecklenbeck) um 11.00 Uhr\nSt.-Stephanus-Kirche (Aaseestadt) um 9.30 Uhr\n\nAlle weiteren Ostermessen finden Sie im aktuellen Wochenbrief.
URL:https://www.kirche-mswest.de/termin/ostersonntag-2023/
LOCATION:In allen Gemeinden\, Münster-West
CATEGORIES:Gottesdienste,Pfarrei
END:VEVENT
END:VCALENDAR