BEGIN:VCALENDAR
VERSION:2.0
PRODID:-//St. Liudger in Münster - ECPv5.16.4//NONSGML v1.0//EN
CALSCALE:GREGORIAN
METHOD:PUBLISH
X-WR-CALNAME:St. Liudger in Münster
X-ORIGINAL-URL:https://www.kirche-mswest.de
X-WR-CALDESC:Veranstaltungen für St. Liudger in Münster
BEGIN:VTIMEZONE
TZID:Europe/Berlin
BEGIN:DAYLIGHT
TZOFFSETFROM:+0100
TZOFFSETTO:+0200
TZNAME:CEST
DTSTART:20230326T010000
END:DAYLIGHT
BEGIN:STANDARD
TZOFFSETFROM:+0200
TZOFFSETTO:+0100
TZNAME:CET
DTSTART:20231029T010000
END:STANDARD
END:VTIMEZONE
BEGIN:VEVENT
DTSTART;TZID=Europe/Berlin:20230408T150000
DTEND;TZID=Europe/Berlin:20230408T170000
DTSTAMP:20260424T003247
CREATED:20230401T092138Z
LAST-MODIFIED:20230401T092138Z
UID:42999-1680966000-1680973200@www.kirche-mswest.de
SUMMARY:Ostereier-Färbeaktion der KjG Albachten
DESCRIPTION:Die KjG Albachten lädt auch in diesem Jahr wieder ein\, am 8. April 2023 (Karsamstag) von 15.00-17.00 Uhr im Pfarrheim gemeinsam Ostereier zu färben und zu bemalen. \nDer Fantasie sind keine Grenzen gesetzt\, es gibt Gelegenheit zum Quatschen und ein paar Snacks. Wir bereiten zusammen den Osterempfang vor und färben die Eier für die ganze Gemeinde und für euch selbst. Zieht also am besten nicht eure Lieblingsklamotten an ;) \nNatürlich dürfen sich auch alle Kinder anmelden\, die bisher noch nicht bei der KjG Albachten dabei waren. Bitte bringt 2€ Teilnahmegebühr und einen Eierkarton mit und meldet euch hier an:\nhttps://forms.gle/AR7CZK41kmSiG4dU6
URL:https://www.kirche-mswest.de/termin/ostereier-faerbeaktion-der-kjg-albachten/
LOCATION:Pfarrzentrum St. Ludgerus\, Dülmener Straße 15\, 48163 Münster
CATEGORIES:KjG St. Ludgerus,St. Ludgerus
END:VEVENT
END:VCALENDAR