BEGIN:VCALENDAR
VERSION:2.0
PRODID:-//St. Liudger in Münster - ECPv5.16.4//NONSGML v1.0//EN
CALSCALE:GREGORIAN
METHOD:PUBLISH
X-WR-CALNAME:St. Liudger in Münster
X-ORIGINAL-URL:https://www.kirche-mswest.de
X-WR-CALDESC:Veranstaltungen für St. Liudger in Münster
BEGIN:VTIMEZONE
TZID:Europe/Berlin
BEGIN:DAYLIGHT
TZOFFSETFROM:+0100
TZOFFSETTO:+0200
TZNAME:CEST
DTSTART:20230326T010000
END:DAYLIGHT
BEGIN:STANDARD
TZOFFSETFROM:+0200
TZOFFSETTO:+0100
TZNAME:CET
DTSTART:20231029T010000
END:STANDARD
END:VTIMEZONE
BEGIN:VEVENT
DTSTART;TZID=Europe/Berlin:20230912T193000
DTEND;TZID=Europe/Berlin:20230912T210000
DTSTAMP:20260425T192702
CREATED:20230901T235510Z
LAST-MODIFIED:20230904T195308Z
UID:44352-1694547000-1694552400@www.kirche-mswest.de
SUMMARY:Ökumenischer Arbeitskreis für Albachten und Roxel
DESCRIPTION:Wir laden herzlich am Dienstag\, 12. September\, um 19.30 Uhr zu einem Ökumenischen Arbeitskreis in das Matthias-Claudius-Haus in Albachten ein. Es sind alle angesprochen\, die Freude an der ökum. Zusammenarbeit haben. Aufgaben des Ökumenischen AK sind die Vernetzung unterschiedlicher ökumenischer Aktivitäten und Projekte. Die Vorbereitung gemeinsamer ökumenischer Gottesdienste wie die Planung ökumenischer Spezialprojekte wie gemeinsames Pilgern und Ausflüge. Weitere Aufgaben sind die Anregungen zu möglichen neuen Projekten und die Einbeziehung aktueller kirchenpolitischer Themen. Der AK-Ökumene wird sich in regelmäßigen Abständen ca. 4 mal im Jahr treffen. Die jeweiligen Termine sind der Homepage\, dem Gemeindebrief/Wochenbrief zu entnehmen.
URL:https://www.kirche-mswest.de/termin/oekumenischer-arbeitskreis-in-albachten/
LOCATION:Matthias-Claudius-Haus\, Osthofstraße 6\, 48163 Münster-Albachten\, Deutschland
CATEGORIES:Ökumene,St. Ludgerus
END:VEVENT
END:VCALENDAR