BEGIN:VCALENDAR
VERSION:2.0
PRODID:-//St. Liudger in Münster - ECPv5.16.4//NONSGML v1.0//EN
CALSCALE:GREGORIAN
METHOD:PUBLISH
X-WR-CALNAME:St. Liudger in Münster
X-ORIGINAL-URL:https://www.kirche-mswest.de
X-WR-CALDESC:Veranstaltungen für St. Liudger in Münster
BEGIN:VTIMEZONE
TZID:Europe/Berlin
BEGIN:DAYLIGHT
TZOFFSETFROM:+0100
TZOFFSETTO:+0200
TZNAME:CEST
DTSTART:20230326T010000
END:DAYLIGHT
BEGIN:STANDARD
TZOFFSETFROM:+0200
TZOFFSETTO:+0100
TZNAME:CET
DTSTART:20231029T010000
END:STANDARD
END:VTIMEZONE
BEGIN:VEVENT
DTSTART;TZID=Europe/Berlin:20230506T150000
DTEND;TZID=Europe/Berlin:20230506T170000
DTSTAMP:20260423T013317
CREATED:20230503T144242Z
LAST-MODIFIED:20230503T144242Z
UID:43203-1683385200-1683392400@www.kirche-mswest.de
SUMMARY:Ökumenische Pflanzaktion im Taufwald
DESCRIPTION:Alle Familien\, die im letzten Jahr ihr Kind getauft haben\, sind herzlich eingeladen einen Baum zur Erinnerung an die Taufe zu pflanzen. Die Familien treffen sich um 15 Uhr im Taufwald in Roxel. Am Anfang gibt es einen kleinen geistlichen Impuls\, der von Pfr. Andreas Hirschberg und Margarete Schylek (Pastoralreferentin) begleitet wird. Die Pflanzaktion hat seit Jahren eine Tradition und wird immer ökumenisch veranstaltet. Alle sollten zum anschließenden Mitbring-Picknick einen Beitrag leisten und können natürlich Eltern\, Geschwister\, Paten und Freunde mitbringen\, um beim Pflanzen zu unterstützen. \nKontakt unter: Schloegelhofer\, Nicole: Nicole.Schloegelhofer@ekvw.de. \n  \n 
URL:https://www.kirche-mswest.de/termin/oekumenische-pflanzaktion-im-taufwald/
LOCATION:Taufwald Roxel\, Am Rohrbusch 50\, 48161 Münster
CATEGORIES:St. Pantaleon
END:VEVENT
END:VCALENDAR