BEGIN:VCALENDAR
VERSION:2.0
PRODID:-//St. Liudger in Münster - ECPv5.16.4//NONSGML v1.0//EN
CALSCALE:GREGORIAN
METHOD:PUBLISH
X-WR-CALNAME:St. Liudger in Münster
X-ORIGINAL-URL:https://www.kirche-mswest.de
X-WR-CALDESC:Veranstaltungen für St. Liudger in Münster
BEGIN:VTIMEZONE
TZID:Europe/Berlin
BEGIN:DAYLIGHT
TZOFFSETFROM:+0100
TZOFFSETTO:+0200
TZNAME:CEST
DTSTART:20260329T010000
END:DAYLIGHT
BEGIN:STANDARD
TZOFFSETFROM:+0200
TZOFFSETTO:+0100
TZNAME:CET
DTSTART:20261025T010000
END:STANDARD
END:VTIMEZONE
BEGIN:VEVENT
DTSTART;TZID=Europe/Berlin:20260504T180000
DTEND;TZID=Europe/Berlin:20260504T190000
DTSTAMP:20260422T122230
CREATED:20260419T172842Z
LAST-MODIFIED:20260419T172842Z
UID:54162-1777917600-1777921200@www.kirche-mswest.de
SUMMARY:Maiandacht der kfd - St. Stephanus
DESCRIPTION:„Maria\, Königin des Friedens“ \nUnter diesem Thema steht in diesem Jahr die Maiandacht der kfd – St. Stephanus. Unsere friedlose Welt macht uns oft ratlos. Schauen wir gemeinsam auf Marias Lebensweg und ihr Glaubenszeugnis.\nVielleicht erkennen wir darin Wege für uns\, wie wir den Frieden finden und weitergeben können. Herzliche Einladung an alle Mitglieder der Pfarrei zur Maiandacht am 4. Mai um 18.00 Uhr in der Marienkapelle St. Stephanus. Anschließend treffen wir uns zu Gesprächen und gemütlichem Beisammensein in der Alten Bücherei. \n 
URL:https://www.kirche-mswest.de/termin/maiandacht-der-kfd-st-stephanus/
LOCATION:St.-Stephanus
CATEGORIES:St. Stephanus
END:VEVENT
END:VCALENDAR