BEGIN:VCALENDAR
VERSION:2.0
PRODID:-//St. Liudger in Münster - ECPv5.16.4//NONSGML v1.0//EN
CALSCALE:GREGORIAN
METHOD:PUBLISH
X-WR-CALNAME:St. Liudger in Münster
X-ORIGINAL-URL:https://www.kirche-mswest.de
X-WR-CALDESC:Veranstaltungen für St. Liudger in Münster
BEGIN:VTIMEZONE
TZID:Europe/Berlin
BEGIN:DAYLIGHT
TZOFFSETFROM:+0100
TZOFFSETTO:+0200
TZNAME:CEST
DTSTART:20230326T010000
END:DAYLIGHT
BEGIN:STANDARD
TZOFFSETFROM:+0200
TZOFFSETTO:+0100
TZNAME:CET
DTSTART:20231029T010000
END:STANDARD
END:VTIMEZONE
BEGIN:VEVENT
DTSTART;TZID=Europe/Berlin:20230508T180000
DTEND;TZID=Europe/Berlin:20230508T200000
DTSTAMP:20260422T224021
CREATED:20230502T130407Z
LAST-MODIFIED:20230502T130655Z
UID:43187-1683568800-1683576000@www.kirche-mswest.de
SUMMARY:Maiandacht auf der Wiese
DESCRIPTION:Es ist wieder Mai. Alles blüht und grünt. Wir sind eingeladen\, dieses neue Leben bewusst wahrzunehmen\, uns mit Kraft füllen zu lassen\, Energie und Lebensfreude zu tanken. Können wir das so einfach? Das Leben ist so unübersichtlich geworden\, schwierig\, unruhig\, unsicher\, ängstigend. Wo finden wir Trost\, Schutz\, Wärme und Hoffnung?\nMantelflucht\, Mantelkindschaft\, Mantelrecht: Uralte Rechtsbräuche erzählen von der Suche nach Obhut und Aufmunterung in schwierigen Lebenssituationen. Auch wir sind auf der Suche nach Schutzräumen. In diesem Zusammenhang und in diesem Monat blicken wir auf Maria. Schauen wir auf das Leben dieser Frau aus Nazareth und versuchen wir in ihrer Haltung auch für uns Hoffnung\, Kraft und Ermutigung zu finden.\nDie kfd St. Stephanus lädt alle Männer und Frauen herzlich ein zu ihrer diesjährigen Maiandacht. Sie soll am Montag\, 08. Mai\, um 18.00 Uhr anstelle der Abendmesse stattfinden. Bei gutem Wetter möchten wir uns auf der Wiese bei der Marienstele treffen. Falls das Wetter nicht mitspielt\, treffen wir uns in der Kirche. Anschließend ist ein Beisammensein auf dem Kirchplatz vor der Alten Bücherei oder aber in der Alten Bücherei geplant.
URL:https://www.kirche-mswest.de/termin/maiandacht-auf-der-wiese/
LOCATION:St.-Stephanus-Kirchplatz
CATEGORIES:Gottesdienste St. Stephanus,kfd St. Stephanus,St. Stephanus
END:VEVENT
END:VCALENDAR