BEGIN:VCALENDAR
VERSION:2.0
PRODID:-//St. Liudger in Münster - ECPv5.16.4//NONSGML v1.0//EN
CALSCALE:GREGORIAN
METHOD:PUBLISH
X-WR-CALNAME:St. Liudger in Münster
X-ORIGINAL-URL:https://www.kirche-mswest.de
X-WR-CALDESC:Veranstaltungen für St. Liudger in Münster
BEGIN:VTIMEZONE
TZID:Europe/Berlin
BEGIN:DAYLIGHT
TZOFFSETFROM:+0100
TZOFFSETTO:+0200
TZNAME:CEST
DTSTART:20230326T010000
END:DAYLIGHT
BEGIN:STANDARD
TZOFFSETFROM:+0200
TZOFFSETTO:+0100
TZNAME:CET
DTSTART:20231029T010000
END:STANDARD
END:VTIMEZONE
BEGIN:VEVENT
DTSTART;TZID=Europe/Berlin:20230509T190000
DTEND;TZID=Europe/Berlin:20230509T200000
DTSTAMP:20260422T212709
CREATED:20230503T140653Z
LAST-MODIFIED:20230503T140653Z
UID:43198-1683658800-1683662400@www.kirche-mswest.de
SUMMARY:Männergottesdienst: "Du sollst dir kein Gottesbild machen!"
DESCRIPTION:„Du sollst Dir kein Gottesbild machen!“ heißt es im zweiten der mosaischen 10 Gebote. Wie kann es dann erlaubt sein\, religiöse Bilder und Ikonen zu malen. Manche sprechen auch vom Schreiben einer Ikone und sehen dies wie das Sprechen eines Gebetes. Dem Nachzuspüren ist Inhalt des nächsten Männergottesdienstes\, in deren Mittelpunkt passend auch zum Monat Mai eine konkrete Marien-Ikone\, eine Tricherusa („drei Hände“)\, steht. Herzliche Einladung hierzu! Wir treffen uns am Dienstag\, 9. Mai um 19.00 Uhr in der St.-Anna-Kirche.
URL:https://www.kirche-mswest.de/termin/maennergottesdienst-du-sollst-dir-kein-gottesbild-machen/
LOCATION:St.-Anna-Kirche
CATEGORIES:Gottesdienste St. Anna,St. Anna
END:VEVENT
END:VCALENDAR