BEGIN:VCALENDAR
VERSION:2.0
PRODID:-//St. Liudger in Münster - ECPv5.16.4//NONSGML v1.0//EN
CALSCALE:GREGORIAN
METHOD:PUBLISH
X-WR-CALNAME:St. Liudger in Münster
X-ORIGINAL-URL:https://www.kirche-mswest.de
X-WR-CALDESC:Veranstaltungen für St. Liudger in Münster
BEGIN:VTIMEZONE
TZID:Europe/Berlin
BEGIN:DAYLIGHT
TZOFFSETFROM:+0100
TZOFFSETTO:+0200
TZNAME:CEST
DTSTART:20230326T010000
END:DAYLIGHT
BEGIN:STANDARD
TZOFFSETFROM:+0200
TZOFFSETTO:+0100
TZNAME:CET
DTSTART:20231029T010000
END:STANDARD
END:VTIMEZONE
BEGIN:VEVENT
DTSTART;TZID=Europe/Berlin:20230525T153000
DTEND;TZID=Europe/Berlin:20230525T170000
DTSTAMP:20260420T023000
CREATED:20230511T113442Z
LAST-MODIFIED:20230515T163403Z
UID:43061-1685028600-1685034000@www.kirche-mswest.de
SUMMARY:Lese-Spaß-Aktion der Bücherei  / Jetzt anmelden!
DESCRIPTION:Das Büchereiteam der katholischen öffentlichen Bücherei (KÖB) St. Pantaleon in Roxel lädt zu einer großen Lese-Spaß-Aktion für Kinder ab 5 Jahren bis einschließlich 1. Klasse ein. Treffpunkt ist am Donnerstag\, 25.05. um 15.30 h im Pfarrheim St. Pantaleon. \nTelefonische Anmeldung: 02534/65412 oder per Mail: aukaro@gmx.de \nLINK zum Artikel der WN Nachrichten: https://www.wn.de/api/public/search?search=LESESPA%C3%9F \n6.(27.04.) Lesespaßaktion Bücherei \n \n 
URL:https://www.kirche-mswest.de/termin/lese-spass-action-der-buecherei-jetzt-anmelden/
LOCATION:Pfarrzentrum St. Pantaleon\, Pantaleonstraße 2a\, 48161 Münster
CATEGORIES:KÖB St. Pantaleon,St. Pantaleon
END:VEVENT
END:VCALENDAR