BEGIN:VCALENDAR
VERSION:2.0
PRODID:-//St. Liudger in Münster - ECPv5.16.4//NONSGML v1.0//EN
CALSCALE:GREGORIAN
METHOD:PUBLISH
X-WR-CALNAME:St. Liudger in Münster
X-ORIGINAL-URL:https://www.kirche-mswest.de
X-WR-CALDESC:Veranstaltungen für St. Liudger in Münster
BEGIN:VTIMEZONE
TZID:Europe/Berlin
BEGIN:DAYLIGHT
TZOFFSETFROM:+0100
TZOFFSETTO:+0200
TZNAME:CEST
DTSTART:20230326T010000
END:DAYLIGHT
BEGIN:STANDARD
TZOFFSETFROM:+0200
TZOFFSETTO:+0100
TZNAME:CET
DTSTART:20231029T010000
END:STANDARD
END:VTIMEZONE
BEGIN:VEVENT
DTSTART;TZID=Europe/Berlin:20230923T100000
DTEND;TZID=Europe/Berlin:20230923T153000
DTSTAMP:20260426T054555
CREATED:20230503T153658Z
LAST-MODIFIED:20230503T153813Z
UID:43214-1695463200-1695483000@www.kirche-mswest.de
SUMMARY:Kinderbibeltag: "Befreit und geführt - mit GOTT durch die Wüste"
DESCRIPTION:Alle Kinder im Grundschulalter sind herzlich eingeladen\, auf den Spuren von Mose zu wandeln. Wir wollen hautnah miterleben\, wie er damals das Volk Israel durch die Wüste geführt hat. Dazu werden wir selbst zu Israeliten und durchleben die Abenteuer\, die Mose und sein Volk damals auch erleben durften. Sei dabei! Werde ein Teil dieser tollen Geschichte! \nDie Eltern sind ab 14 Uhr eingeladen\, das Ende der Geschichte mitzuerleben. Zu dem Fest am Schluss gibt es ein gemeinsames Picknick\, zu dem jede Familie etwas mitbringt. Eine Picknickdecke vervollständigt die Ausrüstung. Wir sammeln zu Beginn einen Unkostenbeitrag von 5 Euro ein. \nDer Link zur erneuten Anmeldung lautet: https://forms.office.com/e/JfWBqRkcGR oder direkt über den QR-Code:
URL:https://www.kirche-mswest.de/termin/kinderbibeltag-befreit-und-gefuehrt-mit-gott-durch-die-wueste/
LOCATION:Pfarrzentrum St. Ludgerus\, Dülmener Straße 15\, 48163 Münster
CATEGORIES:Familien & Kinder,St. Ludgerus
END:VEVENT
END:VCALENDAR