BEGIN:VCALENDAR
VERSION:2.0
PRODID:-//St. Liudger in Münster - ECPv5.16.4//NONSGML v1.0//EN
CALSCALE:GREGORIAN
METHOD:PUBLISH
X-WR-CALNAME:St. Liudger in Münster
X-ORIGINAL-URL:https://www.kirche-mswest.de
X-WR-CALDESC:Veranstaltungen für St. Liudger in Münster
BEGIN:VTIMEZONE
TZID:Europe/Berlin
BEGIN:DAYLIGHT
TZOFFSETFROM:+0100
TZOFFSETTO:+0200
TZNAME:CEST
DTSTART:20230326T010000
END:DAYLIGHT
BEGIN:STANDARD
TZOFFSETFROM:+0200
TZOFFSETTO:+0100
TZNAME:CET
DTSTART:20231029T010000
END:STANDARD
END:VTIMEZONE
BEGIN:VEVENT
DTSTART;TZID=Europe/Berlin:20230503T160000
DTEND;TZID=Europe/Berlin:20230503T173000
DTSTAMP:20260423T042504
CREATED:20230501T190427Z
LAST-MODIFIED:20230501T190427Z
UID:43181-1683129600-1683135000@www.kirche-mswest.de
SUMMARY:Kaffee\, Kuchen und viel Gesprächsstoff
DESCRIPTION:Am Mittwoch (3. Mai) lädt  das Büchereiteam von 16 bis 17.30 Uhr im Pfarrheim Albachten zum Bücherei-Café im großen Pfarrsaal ein. Es gibt Kaffee und Kuchen und viel Gesprächsstoff über neue Bücher oder mehr.\nDer Erlös von Kaffee und Kuchen\, der vom Team selbst gebacken wird\, geht an die Kinderhilfe für Siebenbürgen (www.roma-kinderhilfe.de). Davon sollen unter anderem Hygieneartikel wie Seife\, Zahnpasta und vieles mehr gekauft werden. Wer mehr über die Organisation erfahren möchte\, kann sich auf Youtube den Beitrag „Jenny und die Roma-Kinder – Ein Slum mitten in Europa“ ansehen.
URL:https://www.kirche-mswest.de/termin/kaffee-kuchen-und-viel-gespraechsstoff/
LOCATION:Pfarrzentrum St. Ludgerus\, Dülmener Straße 15\, 48163 Münster
CATEGORIES:Bücherei St. Ludgerus,St. Ludgerus
END:VEVENT
END:VCALENDAR