BEGIN:VCALENDAR
VERSION:2.0
PRODID:-//St. Liudger in Münster - ECPv5.16.4//NONSGML v1.0//EN
CALSCALE:GREGORIAN
METHOD:PUBLISH
X-WR-CALNAME:St. Liudger in Münster
X-ORIGINAL-URL:https://www.kirche-mswest.de
X-WR-CALDESC:Veranstaltungen für St. Liudger in Münster
BEGIN:VTIMEZONE
TZID:Europe/Berlin
BEGIN:DAYLIGHT
TZOFFSETFROM:+0100
TZOFFSETTO:+0200
TZNAME:CEST
DTSTART:20230326T010000
END:DAYLIGHT
BEGIN:STANDARD
TZOFFSETFROM:+0200
TZOFFSETTO:+0100
TZNAME:CET
DTSTART:20231029T010000
END:STANDARD
END:VTIMEZONE
BEGIN:VEVENT
DTSTART;TZID=Europe/Berlin:20230516T193000
DTEND;TZID=Europe/Berlin:20230516T210000
DTSTAMP:20260422T141043
CREATED:20230512T223341Z
LAST-MODIFIED:20230512T223341Z
UID:43385-1684265400-1684270800@www.kirche-mswest.de
SUMMARY:Initiativkreis St. Ludgerus
DESCRIPTION:Einladung zum Ludgeruskreis\, der Initiativkreis trifft sich am Dienstag\, 16. Mai\, um 19.30 Uhr im Pfarrzentrum St. Ludgerus in Albachten. \nWir freuen uns sehr\, wenn auch weitere Gemeindemitglieder dazukommen und den Kreis erweitern. Jede/r die/der mitwirken und das Gemeindeleben mitgestalten möchte ist für unsere Kirche eine Bereicherung. Wir freuen uns über neue Ideen und jede/n\, die/der dazukommt.
URL:https://www.kirche-mswest.de/termin/initiativkreis-st-ludgerus/
LOCATION:Pfarrzentrum St. Ludgerus\, Dülmener Straße 15\, 48163 Münster
CATEGORIES:St. Ludgerus
END:VEVENT
END:VCALENDAR