BEGIN:VCALENDAR
VERSION:2.0
PRODID:-//St. Liudger in Münster - ECPv5.16.4//NONSGML v1.0//EN
CALSCALE:GREGORIAN
METHOD:PUBLISH
X-WR-CALNAME:St. Liudger in Münster
X-ORIGINAL-URL:https://www.kirche-mswest.de
X-WR-CALDESC:Veranstaltungen für St. Liudger in Münster
BEGIN:VTIMEZONE
TZID:Europe/Berlin
BEGIN:DAYLIGHT
TZOFFSETFROM:+0100
TZOFFSETTO:+0200
TZNAME:CEST
DTSTART:20260329T010000
END:DAYLIGHT
BEGIN:STANDARD
TZOFFSETFROM:+0200
TZOFFSETTO:+0100
TZNAME:CET
DTSTART:20261025T010000
END:STANDARD
END:VTIMEZONE
BEGIN:VEVENT
DTSTART;TZID=Europe/Berlin:20260429T190000
DTEND;TZID=Europe/Berlin:20260429T210000
DTSTAMP:20260423T000145
CREATED:20260422T184426Z
LAST-MODIFIED:20260422T184426Z
UID:54196-1777489200-1777496400@www.kirche-mswest.de
SUMMARY:Initiativkreis St. Ludgerus trifft sich
DESCRIPTION:Die nächste Sitzung des Ludgerus Kreises findet am Mittwoch\, 29. April\, um 19.00 Uhr ins Pfarrzentrum statt.
URL:https://www.kirche-mswest.de/termin/initiativkreis-st-ludgerus-trifft-sich-2/
LOCATION:Pfarrzentrum St. Ludgerus\, Dülmener Straße 15\, 48163 Münster
CATEGORIES:St. Ludgerus
END:VEVENT
END:VCALENDAR