BEGIN:VCALENDAR
VERSION:2.0
PRODID:-//St. Liudger in Münster - ECPv5.16.4//NONSGML v1.0//EN
CALSCALE:GREGORIAN
METHOD:PUBLISH
X-WR-CALNAME:St. Liudger in Münster
X-ORIGINAL-URL:https://www.kirche-mswest.de
X-WR-CALDESC:Veranstaltungen für St. Liudger in Münster
BEGIN:VTIMEZONE
TZID:Europe/Berlin
BEGIN:DAYLIGHT
TZOFFSETFROM:+0100
TZOFFSETTO:+0200
TZNAME:CEST
DTSTART:20260329T010000
END:DAYLIGHT
BEGIN:STANDARD
TZOFFSETFROM:+0200
TZOFFSETTO:+0100
TZNAME:CET
DTSTART:20261025T010000
END:STANDARD
END:VTIMEZONE
BEGIN:VEVENT
DTSTART;TZID=Europe/Berlin:20260427T200000
DTEND;TZID=Europe/Berlin:20260427T220000
DTSTAMP:20260422T235539
CREATED:20260422T132352Z
LAST-MODIFIED:20260422T132352Z
UID:54189-1777320000-1777327200@www.kirche-mswest.de
SUMMARY:Initiativkreis St. Anna
DESCRIPTION:Am Montag\, 27. April\, findet der nächste Initiativkreis statt. Die Sitzung beginnt um 20.00 Uhr im Pfarrsaal\, wie immer sind alle Interessierten herzlich eingeladen.
URL:https://www.kirche-mswest.de/termin/initiativkreis-st-anna-4/
LOCATION:Gemeindezentrum St. Anna\, Dingbängerweg 61\, 48163 Münster
CATEGORIES:Gemeindeausschuss St. Anna,St. Anna
END:VEVENT
END:VCALENDAR