BEGIN:VCALENDAR
VERSION:2.0
PRODID:-//St. Liudger in Münster - ECPv5.16.4//NONSGML v1.0//EN
CALSCALE:GREGORIAN
METHOD:PUBLISH
X-WR-CALNAME:St. Liudger in Münster
X-ORIGINAL-URL:https://www.kirche-mswest.de
X-WR-CALDESC:Veranstaltungen für St. Liudger in Münster
BEGIN:VTIMEZONE
TZID:Europe/Berlin
BEGIN:DAYLIGHT
TZOFFSETFROM:+0100
TZOFFSETTO:+0200
TZNAME:CEST
DTSTART:20230326T010000
END:DAYLIGHT
BEGIN:STANDARD
TZOFFSETFROM:+0200
TZOFFSETTO:+0100
TZNAME:CET
DTSTART:20231029T010000
END:STANDARD
END:VTIMEZONE
BEGIN:VEVENT
DTSTART;TZID=Europe/Berlin:20230522T200000
DTEND;TZID=Europe/Berlin:20230522T213000
DTSTAMP:20260420T060814
CREATED:20230509T190355Z
LAST-MODIFIED:20230509T190355Z
UID:43326-1684785600-1684791000@www.kirche-mswest.de
SUMMARY:Initiativkreis "Aufbruch Anna"
DESCRIPTION:Der Initiativkreis trifft sich am 22.5. um 20.00 Uhr im Pfarrsaal St. Anna. Auf der Agende steht die Vorbereitung und Planung der Fronleichnamsprozession. Interessierte sind herzlich willkommen. Das ist das letzte Treffen vor der Sommerpause.
URL:https://www.kirche-mswest.de/termin/initiativkreis-aufbruch-anna-3/
CATEGORIES:St. Anna
END:VEVENT
END:VCALENDAR