BEGIN:VCALENDAR
VERSION:2.0
PRODID:-//St. Liudger in Münster - ECPv5.16.4//NONSGML v1.0//EN
CALSCALE:GREGORIAN
METHOD:PUBLISH
X-WR-CALNAME:St. Liudger in Münster
X-ORIGINAL-URL:https://www.kirche-mswest.de
X-WR-CALDESC:Veranstaltungen für St. Liudger in Münster
BEGIN:VTIMEZONE
TZID:Europe/Berlin
BEGIN:DAYLIGHT
TZOFFSETFROM:+0100
TZOFFSETTO:+0200
TZNAME:CEST
DTSTART:20230326T010000
END:DAYLIGHT
BEGIN:STANDARD
TZOFFSETFROM:+0200
TZOFFSETTO:+0100
TZNAME:CET
DTSTART:20231029T010000
END:STANDARD
END:VTIMEZONE
BEGIN:VEVENT
DTSTART;TZID=Europe/Berlin:20230920T193000
DTEND;TZID=Europe/Berlin:20230920T203000
DTSTAMP:20260426T024941
CREATED:20230503T144945Z
LAST-MODIFIED:20230816T080009Z
UID:43205-1695238200-1695241800@www.kirche-mswest.de
SUMMARY:Infoabend Familienkreise
DESCRIPTION:Familienkreise bieten Kindern und Eltern die Gelegenheit\, sich auszutauschen\, gemeinsam ihre Freizeit zu gestalten und über den Tellerrand zu schauen. \n \nAn diesem Abend \n\nerfahren Sie\, wie Familienkreise entstehen\nhören Sie\, was Familienkreise unternehmen\nlernen Sie Menschen kennen\, die Lust haben einen Familienkreis zu gründen.\n\nWir wollen Ihnen gerne dabei helfen\, Familien in ähnlicher Lage kennenzulernen und so den Alltag zu bereichern. Eine Anmeldung zu diesem Abend ist wünschenswert\, damit wir in etwa wissen\, wie voll es wird\, aber man kann auch spontan kommen. \nFür Fragen und Informationen sowie zur Anmeldung: \n\nMargarete Schylek (Pastoralreferentin)\nE-Mail: schylek@bistum-muenster.de\nRoxana Brink (Mitarbeiterin „Junge Gemeinschaft“)\nEmail: brink@jg-muenster.de\n\n 
URL:https://www.kirche-mswest.de/termin/infoabend-familienkreise-3/
LOCATION:Familienzentrum Maria Aparecida\, Meckmannweg 72\, 48163 Münster
CATEGORIES:Familien & Kinder,Familienzentrum,St. Anna
END:VEVENT
END:VCALENDAR