BEGIN:VCALENDAR
VERSION:2.0
PRODID:-//St. Liudger in Münster - ECPv5.16.4//NONSGML v1.0//EN
CALSCALE:GREGORIAN
METHOD:PUBLISH
X-WR-CALNAME:St. Liudger in Münster
X-ORIGINAL-URL:https://www.kirche-mswest.de
X-WR-CALDESC:Veranstaltungen für St. Liudger in Münster
BEGIN:VTIMEZONE
TZID:Europe/Berlin
BEGIN:DAYLIGHT
TZOFFSETFROM:+0100
TZOFFSETTO:+0200
TZNAME:CEST
DTSTART:20230326T010000
END:DAYLIGHT
BEGIN:STANDARD
TZOFFSETFROM:+0200
TZOFFSETTO:+0100
TZNAME:CET
DTSTART:20231029T010000
END:STANDARD
END:VTIMEZONE
BEGIN:VEVENT
DTSTART;TZID=Europe/Berlin:20230421T151500
DTEND;TZID=Europe/Berlin:20230421T180000
DTSTAMP:20260423T121921
CREATED:20230401T093235Z
LAST-MODIFIED:20230401T093235Z
UID:43005-1682090100-1682100000@www.kirche-mswest.de
SUMMARY:"Hinter die Kulissen" mit der kfd St. Stephanus
DESCRIPTION:Die kfd St. Stephanus lädt herzlich ein zu einem Blick hinter die Kulissen des Theaters Münster. \nFast jeder von uns hat Erinnerungen an den besonderen Moment\, wenn im Theater das Licht langsam verlöscht und sich dann der Vorhang hebt. Wie aber sieht es hinter dem Vorhang aus? Wo warten die Schauspieler auf ihren Einsatz? Wo entstehen ihre Kostüme und wo werden sie geschminkt? \nAntworten gibt es am Freitag\, 21. April\, um 15.30 Uhr. Wir treffen uns um 15.15 Uhr vor der Theaterkasse. Die Führung dauert etwa eine Stunde und kostet 3€ p.P. \nAnschließend klönen wir noch etwas in der Eisdiele „Lazaretti“ nahe der Überwasserkirche. 20 Personen können an diesem Blick hinter die Kulissen teilnehmen. Daher bitten wir um Anmeldung im Pfarrbüro bis Dienstag\, 18. April 2023.
URL:https://www.kirche-mswest.de/termin/hinter-die-kulissen-mit-der-kfd-st-stephanus/
LOCATION:Theater Münster\, Neubrückenstraße 63\, 48143 Münster
CATEGORIES:kfd St. Stephanus,St. Stephanus
END:VEVENT
END:VCALENDAR