BEGIN:VCALENDAR
VERSION:2.0
PRODID:-//St. Liudger in Münster - ECPv5.16.4//NONSGML v1.0//EN
CALSCALE:GREGORIAN
METHOD:PUBLISH
X-WR-CALNAME:St. Liudger in Münster
X-ORIGINAL-URL:https://www.kirche-mswest.de
X-WR-CALDESC:Veranstaltungen für St. Liudger in Münster
BEGIN:VTIMEZONE
TZID:Europe/Berlin
BEGIN:DAYLIGHT
TZOFFSETFROM:+0100
TZOFFSETTO:+0200
TZNAME:CEST
DTSTART:20230326T010000
END:DAYLIGHT
BEGIN:STANDARD
TZOFFSETFROM:+0200
TZOFFSETTO:+0100
TZNAME:CET
DTSTART:20231029T010000
END:STANDARD
END:VTIMEZONE
BEGIN:VEVENT
DTSTART;TZID=Europe/Berlin:20230608T093000
DTEND;TZID=Europe/Berlin:20230608T140000
DTSTAMP:20260419T154940
CREATED:20230425T121818Z
LAST-MODIFIED:20230605T100513Z
UID:43159-1686216600-1686232800@www.kirche-mswest.de
SUMMARY:St. Pantaleon und St. Ludgerus feiern gemeinsam Fronleichnam
DESCRIPTION:Fronleichnamsprozession am 8. Juni um 9.30 Uhr mit St. Ludgerus (Albachten) und St. Pantaleon (Roxel): \nUm 9:30 Uhr ist der Beginn in der Kirche mit einem Gottesdienst! \nAnschließend ziehen wir zu „Pastors Garten“. Dort ist die erste Station. Im Besonderen werden die Senioren angesprochen. Danach geht es zur Marienschule. An der 2.Station stehen die Kommunionkinder und die Familien im Mittelpunkt. Abschluss ist im Garten des Pfarrzentrums. Zum Abschluss wird das neue Pfarrzentrum eingeweiht. Einen Ausklang bietet der anschließende Kaffee. Begleitet wird die Prozession durch den Musikkorps der Freiwilligen Feuerwehr\, die St. Pantaleon Schützenbruderschaft und Messdienern aus beiden Gemeinden. \nEs werden noch helfende Hände zur Vorbereitung des Pfarrsaals gebraucht. Bitte bei Margarete Schylek melden: schylek@bistum-muenster.de.
URL:https://www.kirche-mswest.de/termin/gemeinsame-fronleichnamsprozession-von-st-pantaleon-st-ludgerus/
LOCATION:St.-Pantaleon-Kirche
CATEGORIES:Gottesdienste,Pfarrei
END:VEVENT
END:VCALENDAR