BEGIN:VCALENDAR
VERSION:2.0
PRODID:-//St. Liudger in Münster - ECPv5.16.4//NONSGML v1.0//EN
CALSCALE:GREGORIAN
METHOD:PUBLISH
X-WR-CALNAME:St. Liudger in Münster
X-ORIGINAL-URL:https://www.kirche-mswest.de
X-WR-CALDESC:Veranstaltungen für St. Liudger in Münster
BEGIN:VTIMEZONE
TZID:Europe/Berlin
BEGIN:DAYLIGHT
TZOFFSETFROM:+0100
TZOFFSETTO:+0200
TZNAME:CEST
DTSTART:20260329T010000
END:DAYLIGHT
BEGIN:STANDARD
TZOFFSETFROM:+0200
TZOFFSETTO:+0100
TZNAME:CET
DTSTART:20261025T010000
END:STANDARD
END:VTIMEZONE
BEGIN:VEVENT
DTSTART;TZID=Europe/Berlin:20260430T120000
DTEND;TZID=Europe/Berlin:20260430T133000
DTSTAMP:20260423T011345
CREATED:20260422T184910Z
LAST-MODIFIED:20260422T184910Z
UID:54202-1777550400-1777555800@www.kirche-mswest.de
SUMMARY:Gemeinsam speisen in der Nachbarschaft
DESCRIPTION:„Gemeinsam speisen in der Nachbarschaft“ – in Kooperation mit dem Caritasverband Münster lädt Ellalie Feuyang zum Mittagstisch in die Alte Bücherei ein. Der nächste Termin ist am Donnerstag\, 30. April\, um 12.00 Uhr. Die Anmeldeliste hängt vor der Alten Bücherei aus.
URL:https://www.kirche-mswest.de/termin/gemeinsam-speisen-in-der-nachbarschaft-7/
LOCATION:Alte Bücherei\, Stephanuskirchplatz\, 48151 Münster
CATEGORIES:St. Stephanus
END:VEVENT
END:VCALENDAR