BEGIN:VCALENDAR
VERSION:2.0
PRODID:-//St. Liudger in Münster - ECPv5.16.4//NONSGML v1.0//EN
CALSCALE:GREGORIAN
METHOD:PUBLISH
X-WR-CALNAME:St. Liudger in Münster
X-ORIGINAL-URL:https://www.kirche-mswest.de
X-WR-CALDESC:Veranstaltungen für St. Liudger in Münster
BEGIN:VTIMEZONE
TZID:Europe/Berlin
BEGIN:DAYLIGHT
TZOFFSETFROM:+0100
TZOFFSETTO:+0200
TZNAME:CEST
DTSTART:20230326T010000
END:DAYLIGHT
BEGIN:STANDARD
TZOFFSETFROM:+0200
TZOFFSETTO:+0100
TZNAME:CET
DTSTART:20231029T010000
END:STANDARD
END:VTIMEZONE
BEGIN:VEVENT
DTSTART;TZID=Europe/Berlin:20230408T210000
DTEND;TZID=Europe/Berlin:20230408T223000
DTSTAMP:20260423T215905
CREATED:20230401T090344Z
LAST-MODIFIED:20230401T091203Z
UID:42984-1680987600-1680993000@www.kirche-mswest.de
SUMMARY:Feier der Osternacht 2023
DESCRIPTION:In unseren vier Gemeinden begehen wir am Samstag\, den 8. April 2023\, die Feier der Auferstehung des Herrn in der Osternacht mit folgenden Gottesdiensten: \n\nSt.-Pantaleon-Kirche (Roxel) um 21.00 Uhr\n\nunter Mitwirkung des Jugendchores\n\n\nSt.-Ludgerus-Kirche (Albachten) um 21.00 Uhr\nSt.-Anna-Kirche (Mecklenbeck) um 21.00 Uhr\nSt.-Stephanus-Kirche (Aaseestadt)\n\n18.00 Uhr: für Familien mit Projektchor\n21.00 Uhr\n\n\n\nIm Anschluss an die Gottesdienste um 21.00 Uhr ist die Gemeinde im jeweiligen Gemeindezentrum zum gemütlichen Beisammensein herzlich eingeladen. \nAlle weiteren Ostermessen finden Sie im aktuellen Wochenbrief.
URL:https://www.kirche-mswest.de/termin/feier-der-osternacht-2023/
LOCATION:In allen Gemeinden\, Münster-West
CATEGORIES:Gottesdienste,Pfarrei
END:VEVENT
END:VCALENDAR