BEGIN:VCALENDAR
VERSION:2.0
PRODID:-//St. Liudger in Münster - ECPv5.16.4//NONSGML v1.0//EN
CALSCALE:GREGORIAN
METHOD:PUBLISH
X-WR-CALNAME:St. Liudger in Münster
X-ORIGINAL-URL:https://www.kirche-mswest.de
X-WR-CALDESC:Veranstaltungen für St. Liudger in Münster
BEGIN:VTIMEZONE
TZID:Europe/Berlin
BEGIN:DAYLIGHT
TZOFFSETFROM:+0100
TZOFFSETTO:+0200
TZNAME:CEST
DTSTART:20230326T010000
END:DAYLIGHT
BEGIN:STANDARD
TZOFFSETFROM:+0200
TZOFFSETTO:+0100
TZNAME:CET
DTSTART:20231029T010000
END:STANDARD
END:VTIMEZONE
BEGIN:VEVENT
DTSTART;TZID=Europe/Berlin:20230518T110000
DTEND;TZID=Europe/Berlin:20230518T150000
DTSTAMP:20260422T141918
CREATED:20230505T164451Z
LAST-MODIFIED:20230505T164451Z
UID:43303-1684407600-1684422000@www.kirche-mswest.de
SUMMARY:Erstkommunion in St. Anna
DESCRIPTION:Über 130 Kinder unserer Pfarrei befinden sich im Endspurt auf die Feier der Erstkommunion. Die letzten Großgruppentreffen finden in diesen Tagen statt\, in denen besonders die Wandlung des Brotes im Mittelpunkt steht. \nIn der St.-Anna-Kirche (Mecklenbeck) findet die Feier der Erstkommunion am 18. Mai 2023 um 11.00 Uhr und 14.00 Uhr statt. \nDie Dankmesse findet am 19. Mai 2023 um 10.00 Uhr statt.
URL:https://www.kirche-mswest.de/termin/erstkommunion-in-st-anna-2/
LOCATION:St.-Anna-Kirche
CATEGORIES:Erstkommunion,Pfarrei
END:VEVENT
END:VCALENDAR