BEGIN:VCALENDAR
VERSION:2.0
PRODID:-//St. Liudger in Münster - ECPv5.16.4//NONSGML v1.0//EN
CALSCALE:GREGORIAN
METHOD:PUBLISH
X-WR-CALNAME:St. Liudger in Münster
X-ORIGINAL-URL:https://www.kirche-mswest.de
X-WR-CALDESC:Veranstaltungen für St. Liudger in Münster
BEGIN:VTIMEZONE
TZID:Europe/Berlin
BEGIN:DAYLIGHT
TZOFFSETFROM:+0100
TZOFFSETTO:+0200
TZNAME:CEST
DTSTART:20230326T010000
END:DAYLIGHT
BEGIN:STANDARD
TZOFFSETFROM:+0200
TZOFFSETTO:+0100
TZNAME:CET
DTSTART:20231029T010000
END:STANDARD
END:VTIMEZONE
BEGIN:VEVENT
DTSTART;TZID=Europe/Berlin:20230906T160000
DTEND;TZID=Europe/Berlin:20230906T180000
DTSTAMP:20260423T125937
CREATED:20230904T092836Z
LAST-MODIFIED:20230904T092836Z
UID:44355-1694016000-1694023200@www.kirche-mswest.de
SUMMARY:Eröffnung Repair-Café
DESCRIPTION:Das Repair-Café öffnet am 6. September während des Bücherei-Cafés erstmalig. „Reparieren statt wegwerfen“ – ist das Motto\, ein kleiner Weg für Nachhaltigkeit. Das Repair-Café findet immer am 1. und 3. Mittwoch im Monat während des Bücherei-Cafés von 16.00-18.00 Uhr statt. Es können haushaltsnahe Elektrogeräte\, die man eigenständig transportieren kann\, mitgebracht werden. Zusammen mit dem ehrenamtlichen Helfer wird versucht\, die Geräte zu reparieren. Wir freuen uns\, dass wir Herrn Roloff gewinnen konnten\, das Repair-Café zu betreuen. Die Idee hierzu kommt aus dem Arbeitskreis „Älter werden in Mecklenbeck“. Die Gemeinde St. Anna\, Pfarrei St. Liudger\, unterstützt dieses Angebot. Bei Interesse am Arbeitskreis nehmen Sie bitte Kontakt mit Christiane Wilbrenner\, Caritas Münster – Beratungsstelle West in Gievenbeck oder Beate Frankrone\, KSVM\, auf. Die Termine werden gerne weitergegeben. \nParallel zum Repair-Café ist man eingeladen eine Tasse Kaffee oder Tee zu trinken und mit anderen ins Gespräch zu kommen. Bei  Wartezeiten bietet sich dieses besonders an.
URL:https://www.kirche-mswest.de/termin/eroeffnung-repair-cafe/
LOCATION:Bücherei St. Anna\, Dingbängerweg 61\, 48163 Münster
CATEGORIES:Bücherei St. Anna,St. Anna
END:VEVENT
END:VCALENDAR