BEGIN:VCALENDAR
VERSION:2.0
PRODID:-//St. Liudger in Münster - ECPv5.16.4//NONSGML v1.0//EN
CALSCALE:GREGORIAN
METHOD:PUBLISH
X-WR-CALNAME:St. Liudger in Münster
X-ORIGINAL-URL:https://www.kirche-mswest.de
X-WR-CALDESC:Veranstaltungen für St. Liudger in Münster
BEGIN:VTIMEZONE
TZID:Europe/Berlin
BEGIN:DAYLIGHT
TZOFFSETFROM:+0100
TZOFFSETTO:+0200
TZNAME:CEST
DTSTART:20230326T010000
END:DAYLIGHT
BEGIN:STANDARD
TZOFFSETFROM:+0200
TZOFFSETTO:+0100
TZNAME:CET
DTSTART:20231029T010000
END:STANDARD
END:VTIMEZONE
BEGIN:VEVENT
DTSTART;TZID=Europe/Berlin:20230904T193000
DTEND;TZID=Europe/Berlin:20230904T210000
DTSTAMP:20260421T132525
CREATED:20230825T115212Z
LAST-MODIFIED:20230825T115212Z
UID:44249-1693855800-1693861200@www.kirche-mswest.de
SUMMARY:Elternabend zur Erstkommunion 2024 (St. Stephanus)
DESCRIPTION:Die Familien der Erstkommunionkinder sind vor einiger Zeit angeschrieben worden und die Anmeldung läuft nun. Aus verschiedenen Gründen können Familien nicht im Verteiler gewesen sein. Dann können die Kinder einfach unter https://forms.office.com/e/mEu9jnc4zQ. \nAlle Eltern sind herzlich zu einem ersten Informationsabend eingeladen\, an dem das Konzept\, die Termine und alles Weitere vorgestellt wird: \n\nFür die Gemeinde St. Stephanus (Aaseestadt):\n\nam 4. September\, um 19.30 Uhr\, in der Kirche St. Stephanus.\n\n\nFür die Gemeinde St. Pantaleon (Roxel):\n\nam 5. September\, um 19.30 Uhr\, in der Kirche St. Pantaleon.\n\n\nFür die Gemeinde St. Anna (Mecklenbeck):\n\nam 6. September\, um 19.30 Uhr\, in der Kirche St. Anna.\n\n\nFür die Gemeinde St. Ludgerus (Albachten):\n\nam 7. September\, um 19.30 Uhr\, im Pfarrheim
URL:https://www.kirche-mswest.de/termin/elternabend-zur-erstkommunion-2024-st-stephanus/
LOCATION:St.-Stephanus-Kirche
CATEGORIES:Erstkommunion St. Stephanus,St. Stephanus
END:VEVENT
END:VCALENDAR