BEGIN:VCALENDAR
VERSION:2.0
PRODID:-//St. Liudger in Münster - ECPv5.16.4//NONSGML v1.0//EN
CALSCALE:GREGORIAN
METHOD:PUBLISH
X-WR-CALNAME:St. Liudger in Münster
X-ORIGINAL-URL:https://www.kirche-mswest.de
X-WR-CALDESC:Veranstaltungen für St. Liudger in Münster
BEGIN:VTIMEZONE
TZID:Europe/Berlin
BEGIN:DAYLIGHT
TZOFFSETFROM:+0100
TZOFFSETTO:+0200
TZNAME:CEST
DTSTART:20230326T010000
END:DAYLIGHT
BEGIN:STANDARD
TZOFFSETFROM:+0200
TZOFFSETTO:+0100
TZNAME:CET
DTSTART:20231029T010000
END:STANDARD
END:VTIMEZONE
BEGIN:VEVENT
DTSTART;TZID=Europe/Berlin:20230402T120000
DTEND;TZID=Europe/Berlin:20230402T140000
DTSTAMP:20260424T073027
CREATED:20230221T134538Z
LAST-MODIFIED:20230223T111923Z
UID:42327-1680436800-1680444000@www.kirche-mswest.de
SUMMARY:Einfachessen mit den Roxeler Landfrauen
DESCRIPTION:Vermissen Sie auch sonntags die schmackhaften Eintöpfe in geselliger Runde im Pfarrzentrum? \nWir auch! \n \nDaher schwingen Mitglieder der katholischen\, evangelischen und portugiesischen Kirchengemeinde sowie die der Schützenbruderschaft St. Pantaleon und Landfrauen von Roxel wieder den Kochlöffel an mehreren Fastensonntagen. Es macht allen Köchen wieder viel Spaß die Küche des neu renovierten Pfarrzentrums unter Dampf zu setzen!! Die Genießer des Einfachessens danken es stets mit fröhlicher Kommunikation und Spenden. \nDie Termine sind wie folgt: \n\n05.03.2023  portugiesische Gemeinde\n19.03.2023  evang. Gemeinde\n26.03.2023 Schützenbruderschaft St. Pantaleon\n02.04.2023 Roxeler Landfrauen\n\nNatürlich wollen wir auch in diesem Jahr an unsere örtliche Caritas denken. Denn auch in Roxel bedürfen immer mehr Alleinerziehende\, Alleinstehende und Familien der Hilfe von der Caritas vor Ort. Spenden können Sie direkt in der Kirche in der Spendendose versenken. \nEin herzliches Dankeschön und Vergelt`s Gott!
URL:https://www.kirche-mswest.de/termin/einfachessen-mit-den-roxeler-landfrauen/
LOCATION:Pfarrzentrum St. Pantaleon\, Pantaleonstraße 2a\, 48161 Münster
CATEGORIES:St. Pantaleon
END:VEVENT
END:VCALENDAR