BEGIN:VCALENDAR
VERSION:2.0
PRODID:-//St. Liudger in Münster - ECPv5.16.4//NONSGML v1.0//EN
CALSCALE:GREGORIAN
METHOD:PUBLISH
X-WR-CALNAME:St. Liudger in Münster
X-ORIGINAL-URL:https://www.kirche-mswest.de
X-WR-CALDESC:Veranstaltungen für St. Liudger in Münster
BEGIN:VTIMEZONE
TZID:Europe/Berlin
BEGIN:DAYLIGHT
TZOFFSETFROM:+0100
TZOFFSETTO:+0200
TZNAME:CEST
DTSTART:20260329T010000
END:DAYLIGHT
BEGIN:STANDARD
TZOFFSETFROM:+0200
TZOFFSETTO:+0100
TZNAME:CET
DTSTART:20261025T010000
END:STANDARD
END:VTIMEZONE
BEGIN:VEVENT
DTSTART;TZID=Europe/Berlin:20260422T193000
DTEND;TZID=Europe/Berlin:20260422T210000
DTSTAMP:20260420T051846
CREATED:20260419T171040Z
LAST-MODIFIED:20260419T171040Z
UID:54153-1776886200-1776891600@www.kirche-mswest.de
SUMMARY:Diskussionsabend: Fasten - mal anders: Scheitern ist normal!?
DESCRIPTION:Diskussionsabend \nWANN: Mittwoch\, 22. April um 19:30 Uhr \nWO: Pfarrzentrum St. Pantaleon \n  \nTHEMA: FASTEN – mal anders:   –   Scheitern ist normal ! …. oder ? \nSo können Nächstenliebe und Selbstmitgefühl gestärkt werden. \nHintergrund zum Thema: \nViele kennen das: … zum Beginn des neuen Jahres\, …am Anfang der Fastenzeit\, … einige Wochen vor dem Strandurlaub\, … oder beim morgendlichen Blick auf die Waage\, – nach kurzer Zeit sind die „guten“ Vorsätze im Alltag schon wieder vergessen und verflogen. Und was folgt ist: die Selbstkritik\, der Zweifel an die eigene Glaubwürdigkeit\, der „Knacks“ in der Selbstachtung und die „innere Stimme“ meldet sich wieder\, die einen „klein macht“. Die Euphorie des Anfangs verfliegt und die Stimmung wird mies. \nWem tut das gut und wem hilft das? Und\, kann man auch anders damit umgehen\, z.B. indem man „fastet“ im Sinne von verzichten auf: … \, um frei zu werden für: …?  Welche Auswirkungen kann Verzicht auf übertriebene Selbstkritik haben und was hat es mit Nächstenliebe zu tun? \n  \nWenn du Lust hast mit anderen über dieses Thema ins Gespräch zu kommen\, bist du herzlich eingeladen!
URL:https://www.kirche-mswest.de/termin/diskussionsabend-fasten-mal-anders-scheitern-ist-normal/
LOCATION:Pfarrzentrum St. Pantaleon\, Pantaleonstraße 2a\, 48161 Münster
CATEGORIES:St. Pantaleon
END:VEVENT
END:VCALENDAR