BEGIN:VCALENDAR
VERSION:2.0
PRODID:-//St. Liudger in Münster - ECPv5.16.4//NONSGML v1.0//EN
CALSCALE:GREGORIAN
METHOD:PUBLISH
X-WR-CALNAME:St. Liudger in Münster
X-ORIGINAL-URL:https://www.kirche-mswest.de
X-WR-CALDESC:Veranstaltungen für St. Liudger in Münster
BEGIN:VTIMEZONE
TZID:Europe/Berlin
BEGIN:DAYLIGHT
TZOFFSETFROM:+0100
TZOFFSETTO:+0200
TZNAME:CEST
DTSTART:20230326T010000
END:DAYLIGHT
BEGIN:STANDARD
TZOFFSETFROM:+0200
TZOFFSETTO:+0100
TZNAME:CET
DTSTART:20231029T010000
END:STANDARD
END:VTIMEZONE
BEGIN:VEVENT
DTSTART;TZID=Europe/Berlin:20230426T160000
DTEND;TZID=Europe/Berlin:20230426T180000
DTSTAMP:20260423T065627
CREATED:20230417T155803Z
LAST-MODIFIED:20230417T155803Z
UID:43084-1682524800-1682532000@www.kirche-mswest.de
SUMMARY:Diakonat der Frau
DESCRIPTION:Die Frauengemeinschaft St. Ludgerus Albachten lädt im Namen der kfd Stadtfrauen Region Münster ein zum Wortgottesdienst „Diakonat der Frau“ mit dem Thema Hildegard von Bingen\, Mystikerin-Prophetin-unerschrockene Kämpferin am Mittwoch\, 26. April 2023 um 16:00 Uhr in die Petri-Kirche\, Johannisstr. 5\, Münster. Anschließend wird eingeladen in den Hansahof\, Aegidiistr. 67\, Münster\, um mit den Gästen Frau Ursula Saatz (autonomes Frauenhaus Wolbeck) und Prof.Dr.Dr. Thomas Sternberg (Komitee Synodaler Weg) ins Gespräch zu kommen. Ein Imbiss wird gereicht.
URL:https://www.kirche-mswest.de/termin/diakonat-der-frau/
LOCATION:Petri-Kirche
CATEGORIES:kfd St. Ludgerus,St. Ludgerus
END:VEVENT
END:VCALENDAR