BEGIN:VCALENDAR
VERSION:2.0
PRODID:-//St. Liudger in Münster - ECPv5.16.4//NONSGML v1.0//EN
CALSCALE:GREGORIAN
METHOD:PUBLISH
X-WR-CALNAME:St. Liudger in Münster
X-ORIGINAL-URL:https://www.kirche-mswest.de
X-WR-CALDESC:Veranstaltungen für St. Liudger in Münster
BEGIN:VTIMEZONE
TZID:Europe/Berlin
BEGIN:DAYLIGHT
TZOFFSETFROM:+0100
TZOFFSETTO:+0200
TZNAME:CEST
DTSTART:20230326T010000
END:DAYLIGHT
BEGIN:STANDARD
TZOFFSETFROM:+0200
TZOFFSETTO:+0100
TZNAME:CET
DTSTART:20231029T010000
END:STANDARD
END:VTIMEZONE
BEGIN:VEVENT
DTSTART;TZID=Europe/Berlin:20230405T160000
DTEND;TZID=Europe/Berlin:20230405T173000
DTSTAMP:20260424T061043
CREATED:20230403T144357Z
LAST-MODIFIED:20260128T081935Z
UID:43036-1680710400-1680715800@www.kirche-mswest.de
SUMMARY:Bücherei-Café
DESCRIPTION:Herzliche Einladung zum Bücherei-Café am 5. April 2023 von 16.00 bis 17.30 Uhr im Pfarrheim Albachten.\n\nEs gibt zu einer leckeren Tasse Kaffee wieder mehrere Kuchen zur Auswahl\, die man in schöner Runde genießen kann. Gesprächsstoff gibt es sicherlich genug über neue Bücher oder was sonst gerade so in Albachten/in Münster/auf der Welt los ist.\n\nDer Erlös von Kaffee und Kuchen\, der vom Bücherei-Team persönlich gebacken wird\, geht an die Kinderhilfe für Siebenbürgen e.V.. Er wird in Hygienepakete umgesetzt\, die das ganze Jahr von Susanne Reckmann immer wieder gepackt werden. Inhalt: Ein Waschhandschuh gefüllt mit Duschgel\, Shampoo\, Zahnbürsten und Zahnpasta.\n\nSie werden immer gebraucht\, da dort in Sibiu und Umgebung viele Menschen in Armensiedlungen leben\, die sich noch nicht einmal das tägliche Brot leisten können. Hilfe zur Selbsthilfe ist sonst der Leitsatz der Kinderhilfe\, die schon vielen Menschen dauerhaft aus der Armutsspirale herausgeholfen haben.
URL:https://www.kirche-mswest.de/termin/buecherei-cafe-13/
LOCATION:KöB St. Ludgerus
CATEGORIES:Bücherei St. Ludgerus,St. Ludgerus
END:VEVENT
END:VCALENDAR